BEGIN:VCALENDAR
VERSION:2.0
PRODID:-//wp-events-plugin.com//7.2.3.1//EN
TZID:Europe/Berlin
X-WR-TIMEZONE:Europe/Berlin
BEGIN:VEVENT
UID:45@jugend-turniere.de
DTSTART;TZID=Europe/Berlin:20250201T093000
DTEND;TZID=Europe/Berlin:20250201T193000
DTSTAMP:20241211T100430Z
URL:https://jugend-turniere.de/events/eden-cup-2025/
SUMMARY:Eden-Cup 2025
DESCRIPTION:Wir freuen uns\, euer Team zu unseren Hallenturnieren am 01.02.
 2025 einzuladen! Unsere Sporthalle wird an diesem Tag zum spannenden Schau
 platz zweier Turniere.\n\nDie Turniere werden auf Kleinfeldtore 2x5 m\, mi
 t Futsalball und einer Seitenbande ausgetragen\, was für mehr Spielfluss 
 sorgt.\n\nDie Teilnehmerplätze werden nach Eingang vergeben\, also meldet
  Euch bitte rechtzeitig per Mail an. (Kontaktdaten gerne am rechten Rand e
 ntnehmen) Sobald ihr die Zusage von uns erhalten habt\, überweist bitte d
 as Startgeld (Kontoverbindung wird mit der Zusage mitgeteilt) Mit Eingang 
 des Startgeldes ist die Teilnahme bestätigt.\n\nHIGHLIGHTS - letzten beid
 en Spielminuten mit Musik -Kostenfreie Bananen\, Äpfel\, Müsliriegel und
  Wasser für die Spieler -Jedes Team erhält einen Adidas Fußball\n\nSTAR
 TGELD 35€ pro Team\n\nAnsprechpartner:\n\nPascal Köllner\n\nkoellnerpas
 cal@web.de
ATTACH;FMTTYPE=image/jpeg:https://jugend-turniere.de/wp-content/uploads/20
 24/12/Eden-Cup-2025.avif
CATEGORIES:Jungs U15
LOCATION:Edensporthalle Sulingen\, Edenstraße 39\, Sulingen\, 27232\, Deut
 schland
GEO:52.679391;8.826378
X-APPLE-STRUCTURED-LOCATION;VALUE=URI;X-ADDRESS=Edenstraße 39\, Sulingen\,
  27232\, Deutschland;X-APPLE-RADIUS=100;X-TITLE=Edensporthalle Sulingen:ge
 o:52.679391,8.826378
END:VEVENT
BEGIN:VTIMEZONE
TZID:Europe/Berlin
X-LIC-LOCATION:Europe/Berlin
BEGIN:STANDARD
DTSTART:20241027T020000
TZOFFSETFROM:+0200
TZOFFSETTO:+0100
TZNAME:CET
END:STANDARD
END:VTIMEZONE
END:VCALENDAR