BEGIN:VCALENDAR
VERSION:2.0
PRODID:-//wp-events-plugin.com//7.2.3.1//EN
TZID:Europe/Berlin
X-WR-TIMEZONE:Europe/Berlin
BEGIN:VEVENT
UID:110@jugend-turniere.de
DTSTART;TZID=Europe/Berlin;VALUE=DATE:20250619
DTEND;TZID=Europe/Berlin;VALUE=DATE:20250623
DTSTAMP:20250204T153354Z
URL:https://jugend-turniere.de/events/lenardy-cup-2025/
SUMMARY:Lenardy Cup 2025
DESCRIPTION:Liebe Sportsfreunde\,\n\nim Jahr 2025 lädt der VfK Nordbägge 
 1931 e.V. wieder zum Jugend Sommerturnier vom 19.06. bis zum 22.06.2025 ei
 n.\n\nBei den G-Junioren spielen wir eim Spielfest wo jeder anreisende Ver
 ein bitte jeweils 2 Mannschaften mit je 3 Spielern stellen\n\nBei den F-Ju
 nioren spielen wir ebenfalls ein Spielfest im Modus "Jeder gegen Jeden (4+
 1). Jeder Teilnehmer bekommt eine Medaille.\n\nBei den E- und D-Junioren w
 erden in der Endrunde die Plätze 1 bis 4 (D-Jugend Platz 1-6) ausgespielt
 .\n\nWir erheben eine Startkaution in Höhe von 20 € pro Mannschaft\, we
 lche ihr bei Antritt in Bar zurück erhaltet.\n\nEure Anmeldungen bitte pe
 r Mail an: turniere@vfk-nordboegge de\n\nBitte angeben: Turnier/Verein/Man
 nschaft/Spielstärke/Ansprechpartner\n\nDie Turnierzusagen erfolgen in der
  Reihenfolge des Eingangs der Anmeldungen.\n\nUm mehreren Vereinen die Tur
 nier Teilnahme zu ermöglichen\, wird nur eine Mannschaft pro Verein je\nT
 urnierklasse zugelassen.\n\nNach unserer Turnierzusage und dem Eingang der
  Startkaution wird eine verbindliche Teilnahme bestätigt.\n\nMit sportlic
 hen Grüßen
ATTACH;FMTTYPE=image/jpeg:https://jugend-turniere.de/wp-content/uploads/20
 25/02/Lenardy-Cup-2025.avif
CATEGORIES:Jungs U10,Jungs U11,Jungs U12,Jungs U13,Jungs U7,Jungs U8,Jungs
 U9,Mädchen U7,Mädchen U8,Mädchen U9
LOCATION:VfK Nordbögge 1931 e.V.\, Meereweg 28\, Bönen\, 59199\, Deutschl
 and
GEO:51.611658;7.738464
X-APPLE-STRUCTURED-LOCATION;VALUE=URI;X-ADDRESS=Meereweg 28\, Bönen\, 5919
 9\, Deutschland;X-APPLE-RADIUS=100;X-TITLE=VfK Nordbögge 1931 e.V.:geo:51
 .611658,7.738464
END:VEVENT
BEGIN:VTIMEZONE
TZID:Europe/Berlin
X-LIC-LOCATION:Europe/Berlin
BEGIN:DAYLIGHT
DTSTART:20250330T030000
TZOFFSETFROM:+0100
TZOFFSETTO:+0200
TZNAME:CEST
END:DAYLIGHT
END:VTIMEZONE
END:VCALENDAR